BEGIN:VCALENDAR
VERSION:2.0
PRODID:-//Hillsdale Est. 1788 - ECPv6.15.17.1//NONSGML v1.0//EN
CALSCALE:GREGORIAN
METHOD:PUBLISH
X-WR-CALNAME:Hillsdale Est. 1788
X-ORIGINAL-URL:https://hillsdaleny.com
X-WR-CALDESC:Events for Hillsdale Est. 1788
REFRESH-INTERVAL;VALUE=DURATION:PT1H
X-Robots-Tag:noindex
X-PUBLISHED-TTL:PT1H
BEGIN:VTIMEZONE
TZID:America/Chicago
BEGIN:DAYLIGHT
TZOFFSETFROM:-0600
TZOFFSETTO:-0500
TZNAME:CDT
DTSTART:20180311T080000
END:DAYLIGHT
BEGIN:STANDARD
TZOFFSETFROM:-0500
TZOFFSETTO:-0600
TZNAME:CST
DTSTART:20181104T070000
END:STANDARD
BEGIN:DAYLIGHT
TZOFFSETFROM:-0600
TZOFFSETTO:-0500
TZNAME:CDT
DTSTART:20190310T080000
END:DAYLIGHT
BEGIN:STANDARD
TZOFFSETFROM:-0500
TZOFFSETTO:-0600
TZNAME:CST
DTSTART:20191103T070000
END:STANDARD
BEGIN:DAYLIGHT
TZOFFSETFROM:-0600
TZOFFSETTO:-0500
TZNAME:CDT
DTSTART:20200308T080000
END:DAYLIGHT
BEGIN:STANDARD
TZOFFSETFROM:-0500
TZOFFSETTO:-0600
TZNAME:CST
DTSTART:20201101T070000
END:STANDARD
END:VTIMEZONE
BEGIN:VEVENT
DTSTART;TZID=America/Chicago:20190102T163000
DTEND;TZID=America/Chicago:20190102T163000
DTSTAMP:20260423T205748
CREATED:20191222T001659Z
LAST-MODIFIED:20191222T001659Z
UID:10000036-1546446600-1546446600@hillsdaleny.com
SUMMARY:2019 Organizational Meeting
DESCRIPTION:Please be advised that the Town Board of the Town of Hillsdale will hold its 2018 Organizational Meeting on Wednesday\, January 2 at 4:30 pm at Town Hall.
URL:https://hillsdaleny.com/event/2019-organizational-meeting/
CATEGORIES:Town Board
END:VEVENT
END:VCALENDAR