BEGIN:VCALENDAR
VERSION:2.0
PRODID:-//Hillsdale Est. 1788 - ECPv6.15.17.1//NONSGML v1.0//EN
CALSCALE:GREGORIAN
METHOD:PUBLISH
X-ORIGINAL-URL:https://hillsdaleny.com
X-WR-CALDESC:Events for Hillsdale Est. 1788
REFRESH-INTERVAL;VALUE=DURATION:PT1H
X-Robots-Tag:noindex
X-PUBLISHED-TTL:PT1H
BEGIN:VTIMEZONE
TZID:America/Chicago
BEGIN:DAYLIGHT
TZOFFSETFROM:-0600
TZOFFSETTO:-0500
TZNAME:CDT
DTSTART:20180311T080000
END:DAYLIGHT
BEGIN:STANDARD
TZOFFSETFROM:-0500
TZOFFSETTO:-0600
TZNAME:CST
DTSTART:20181104T070000
END:STANDARD
BEGIN:DAYLIGHT
TZOFFSETFROM:-0600
TZOFFSETTO:-0500
TZNAME:CDT
DTSTART:20190310T080000
END:DAYLIGHT
BEGIN:STANDARD
TZOFFSETFROM:-0500
TZOFFSETTO:-0600
TZNAME:CST
DTSTART:20191103T070000
END:STANDARD
BEGIN:DAYLIGHT
TZOFFSETFROM:-0600
TZOFFSETTO:-0500
TZNAME:CDT
DTSTART:20200308T080000
END:DAYLIGHT
BEGIN:STANDARD
TZOFFSETFROM:-0500
TZOFFSETTO:-0600
TZNAME:CST
DTSTART:20201101T070000
END:STANDARD
END:VTIMEZONE
BEGIN:VEVENT
DTSTART;TZID=America/Chicago:20191105T180000
DTEND;TZID=America/Chicago:20191105T180000
DTSTAMP:20260423T052257
CREATED:20191221T225823Z
LAST-MODIFIED:20191221T225832Z
UID:10000184-1572976800-1572976800@hillsdaleny.com
SUMMARY:2020 Preliminary Budget – Notice of Public Hearing
DESCRIPTION:The Hillsdale Town Board will hold a public hearing on the 2020 Preliminary Budget on November 5 at 6 pm at the Hillsdale Town Hall. Following the hearing\, the Town Board will consider changes to the Preliminary Budget\, prepare a Final 2020 Budget and conduct a Final Budget public hearing at 6:45 pm on November 12\, immediately prior to the November Town Board meeting. The Final 2020 Budget will be considered for approval at the November 12 Town Board meeting.
URL:https://hillsdaleny.com/event/2020-preliminary-budget-notice-of-public-hearing/
CATEGORIES:Town Board
END:VEVENT
BEGIN:VEVENT
DTSTART;VALUE=DATE:20191112
DTEND;VALUE=DATE:20191113
DTSTAMP:20260423T052257
CREATED:20191221T225257Z
LAST-MODIFIED:20191221T225257Z
UID:10000177-1573516800-1573603199@hillsdaleny.com
SUMMARY:Notice of Public Hearing – Final 2020 Town Budget
DESCRIPTION:The Hillsdale Town Board will hold a public hearing on the 2020 Final Budget on November 12\, 2019\, at 6:45 pm at the Hillsdale Town Hall. 2020 Preliminary Budget materials are available from the Hillsdale Town Clerk\, are on the home page of the town website. The Final 2020 Budget will be considered for approval at the November 12 Town Board meeting.
URL:https://hillsdaleny.com/event/notice-of-public-hearing-final-2020-town-budget/
CATEGORIES:Town Board
END:VEVENT
BEGIN:VEVENT
DTSTART;TZID=America/Chicago:20191112T180000
DTEND;TZID=America/Chicago:20191112T180000
DTSTAMP:20260423T052257
CREATED:20191221T225336Z
LAST-MODIFIED:20191221T225336Z
UID:10000178-1573581600-1573581600@hillsdaleny.com
SUMMARY:Notice of Public Hearing: Local Law #2
DESCRIPTION:
URL:https://hillsdaleny.com/event/notice-of-public-hearing-local-law-2/
CATEGORIES:Town Board
END:VEVENT
END:VCALENDAR