BEGIN:VCALENDAR
VERSION:2.0
PRODID:-//Hillsdale Est. 1788 - ECPv6.15.17.1//NONSGML v1.0//EN
CALSCALE:GREGORIAN
METHOD:PUBLISH
X-WR-CALNAME:Hillsdale Est. 1788
X-ORIGINAL-URL:https://hillsdaleny.com
X-WR-CALDESC:Events for Hillsdale Est. 1788
REFRESH-INTERVAL;VALUE=DURATION:PT1H
X-Robots-Tag:noindex
X-PUBLISHED-TTL:PT1H
BEGIN:VTIMEZONE
TZID:America/Chicago
BEGIN:DAYLIGHT
TZOFFSETFROM:-0600
TZOFFSETTO:-0500
TZNAME:CDT
DTSTART:20190310T080000
END:DAYLIGHT
BEGIN:STANDARD
TZOFFSETFROM:-0500
TZOFFSETTO:-0600
TZNAME:CST
DTSTART:20191103T070000
END:STANDARD
BEGIN:DAYLIGHT
TZOFFSETFROM:-0600
TZOFFSETTO:-0500
TZNAME:CDT
DTSTART:20200308T080000
END:DAYLIGHT
BEGIN:STANDARD
TZOFFSETFROM:-0500
TZOFFSETTO:-0600
TZNAME:CST
DTSTART:20201101T070000
END:STANDARD
BEGIN:DAYLIGHT
TZOFFSETFROM:-0600
TZOFFSETTO:-0500
TZNAME:CDT
DTSTART:20210314T080000
END:DAYLIGHT
BEGIN:STANDARD
TZOFFSETFROM:-0500
TZOFFSETTO:-0600
TZNAME:CST
DTSTART:20211107T070000
END:STANDARD
END:VTIMEZONE
BEGIN:VEVENT
DTSTART;TZID=America/Chicago:20200706T100000
DTEND;TZID=America/Chicago:20200801T170000
DTSTAMP:20260422T154234
CREATED:20200704T180015Z
LAST-MODIFIED:20200708T022327Z
UID:10000058-1594029600-1596301200@hillsdaleny.com
SUMMARY:Reopening Guidelines
DESCRIPTION:Hillsdale Town employees return to their normally scheduled hours on Monday\, July 6. A link to the Town Hall directory with scheduled hours and employee contact information is provided below.\n \nWhen working in or visiting Town Hall\, please follow these rules:\n\nTown Hall is open to the public by appointment only. Do not come to Town Hall without an appointment.\nEmployees and visitors are required to wear a face covering. Masks are available if you arrive without one. If you are not able to wear a mask\, please conduct your business virtually.\nWhen you arrive at Town Hall\, the doors will be locked. Call the person you are scheduled to see to announce your arrival or knock on the front door.\nMaintain mandatory 6-foot social distance.\nAll employees and visitors to Town buildings will fill out a daily health- screening questionnaire. All visitors must also log in with contact information for contact tracing. Questionnaires and log in forms are available at the entrance.\nStay home or go home if you think you have been exposed to someone with COVID 19 or have any possible symptoms – fever over 100.4\, cough\, chills\, muscle pain\, sore throat\, loss of taste or smell\, or shortness of breath.\nShared desks and equipment will be sanitized after each use by the previous user and before each use by the new user.\nCleaning and sanitizing of common areas and restrooms will be completed regularly.\nHand sanitizer is available in all common areas.\nThe restroom is closed to the public.\nPlexiglass shields have been installed to protect staff.\nTown meetings will be held remotely through August 1.\n\nTown Directory
URL:https://hillsdaleny.com/event/reopening-guidelines/
CATEGORIES:Town Board
END:VEVENT
BEGIN:VEVENT
DTSTART;TZID=America/Chicago:20200714T190000
DTEND;TZID=America/Chicago:20200714T210000
DTSTAMP:20260422T154234
CREATED:20200604T220523Z
LAST-MODIFIED:20200714T181815Z
UID:10000260-1594753200-1594760400@hillsdaleny.com
SUMMARY:Town Board Meeting
DESCRIPTION:Topic: July Town Board Meeting \nTime: Jul 14\, 2020 07:00 PM Eastern Time (US and Canada) \n  \nJoin Zoom Meeting \nhttps://us02web.zoom.us/j/89334409878?pwd=WHVlL0hvK0JpQ3N3b2ZxQ1JmUlhjQT09 \n  \nMeeting ID: 893 3440 9878 \nPassword: 161243 \n  \nOR Dial \n646 558 8656 \nMeeting ID: 893 3440 9878 \nPassword: 161243 \n 
URL:https://hillsdaleny.com/event/town-board-meeting-4/
CATEGORIES:Town Board
END:VEVENT
END:VCALENDAR