BEGIN:VCALENDAR
VERSION:2.0
PRODID:-//Hillsdale Est. 1788 - ECPv6.15.17.1//NONSGML v1.0//EN
CALSCALE:GREGORIAN
METHOD:PUBLISH
X-ORIGINAL-URL:https://hillsdaleny.com
X-WR-CALDESC:Events for Hillsdale Est. 1788
REFRESH-INTERVAL;VALUE=DURATION:PT1H
X-Robots-Tag:noindex
X-PUBLISHED-TTL:PT1H
BEGIN:VTIMEZONE
TZID:America/Chicago
BEGIN:DAYLIGHT
TZOFFSETFROM:-0600
TZOFFSETTO:-0500
TZNAME:CDT
DTSTART:20200308T080000
END:DAYLIGHT
BEGIN:STANDARD
TZOFFSETFROM:-0500
TZOFFSETTO:-0600
TZNAME:CST
DTSTART:20201101T070000
END:STANDARD
BEGIN:DAYLIGHT
TZOFFSETFROM:-0600
TZOFFSETTO:-0500
TZNAME:CDT
DTSTART:20210314T080000
END:DAYLIGHT
BEGIN:STANDARD
TZOFFSETFROM:-0500
TZOFFSETTO:-0600
TZNAME:CST
DTSTART:20211107T070000
END:STANDARD
BEGIN:DAYLIGHT
TZOFFSETFROM:-0600
TZOFFSETTO:-0500
TZNAME:CDT
DTSTART:20220313T080000
END:DAYLIGHT
BEGIN:STANDARD
TZOFFSETFROM:-0500
TZOFFSETTO:-0600
TZNAME:CST
DTSTART:20221106T070000
END:STANDARD
END:VTIMEZONE
BEGIN:VEVENT
DTSTART;TZID=America/Chicago:20211109T190000
DTEND;TZID=America/Chicago:20211109T210000
DTSTAMP:20260421T132604
CREATED:20211025T153332Z
LAST-MODIFIED:20211025T153332Z
UID:10000082-1636484400-1636491600@hillsdaleny.com
SUMMARY:Town Board Meeting
DESCRIPTION:The November Town Board meeting will be held virtually via Zoom. Log-in 850 2012 1223. Call in: 
URL:https://hillsdaleny.com/event/town-board-meeting-17/
CATEGORIES:Town Board
END:VEVENT
END:VCALENDAR