BEGIN:VCALENDAR
VERSION:2.0
PRODID:-//Hillsdale Est. 1788 - ECPv6.15.17.1//NONSGML v1.0//EN
CALSCALE:GREGORIAN
METHOD:PUBLISH
X-ORIGINAL-URL:https://hillsdaleny.com
X-WR-CALDESC:Events for Hillsdale Est. 1788
REFRESH-INTERVAL;VALUE=DURATION:PT1H
X-Robots-Tag:noindex
X-PUBLISHED-TTL:PT1H
BEGIN:VTIMEZONE
TZID:America/Chicago
BEGIN:DAYLIGHT
TZOFFSETFROM:-0600
TZOFFSETTO:-0500
TZNAME:CDT
DTSTART:20210314T080000
END:DAYLIGHT
BEGIN:STANDARD
TZOFFSETFROM:-0500
TZOFFSETTO:-0600
TZNAME:CST
DTSTART:20211107T070000
END:STANDARD
BEGIN:DAYLIGHT
TZOFFSETFROM:-0600
TZOFFSETTO:-0500
TZNAME:CDT
DTSTART:20220313T080000
END:DAYLIGHT
BEGIN:STANDARD
TZOFFSETFROM:-0500
TZOFFSETTO:-0600
TZNAME:CST
DTSTART:20221106T070000
END:STANDARD
BEGIN:DAYLIGHT
TZOFFSETFROM:-0600
TZOFFSETTO:-0500
TZNAME:CDT
DTSTART:20230312T080000
END:DAYLIGHT
BEGIN:STANDARD
TZOFFSETFROM:-0500
TZOFFSETTO:-0600
TZNAME:CST
DTSTART:20231105T070000
END:STANDARD
END:VTIMEZONE
BEGIN:VEVENT
DTSTART;TZID=America/Chicago:20220106T180000
DTEND;TZID=America/Chicago:20220106T210000
DTSTAMP:20260421T101701
CREATED:20211220T161225Z
LAST-MODIFIED:20211220T161225Z
UID:10000287-1641492000-1641502800@hillsdaleny.com
SUMMARY:Town Board Organizational Meeting
DESCRIPTION:The town Board of Hillsdale will hold its Organizational Meeting via Zoom  \nLog-in: 826 2490 9897 \nPhone: +16465588656\,\,82624909897# 
URL:https://hillsdaleny.com/event/town-board-organizational-meeting/
CATEGORIES:Town Board
END:VEVENT
BEGIN:VEVENT
DTSTART;TZID=America/Chicago:20220111T190000
DTEND;TZID=America/Chicago:20220111T213000
DTSTAMP:20260421T101701
CREATED:20211220T161743Z
LAST-MODIFIED:20220103T150923Z
UID:10000288-1641927600-1641936600@hillsdaleny.com
SUMMARY:Town Board Meeting
DESCRIPTION:The Town Board will meet via Zoom \nLog-in: 850 2012 1223 \nPhone in: 
URL:https://hillsdaleny.com/event/town-board-meeting-19/
CATEGORIES:Town Board
END:VEVENT
BEGIN:VEVENT
DTSTART;TZID=America/Chicago:20220117T100000
DTEND;TZID=America/Chicago:20220117T110000
DTSTAMP:20260421T101701
CREATED:20220114T174710Z
LAST-MODIFIED:20220114T174710Z
UID:10000084-1642413600-1642417200@hillsdaleny.com
SUMMARY:Special Town Board Meeting
DESCRIPTION:Monday January 17 at 10 AM to approve bids for a tree contractor and highway materials. \nZoom log-in: 829 7776 0015
URL:https://hillsdaleny.com/event/special-town-board-meeting-4/
CATEGORIES:Town Board
END:VEVENT
END:VCALENDAR