BEGIN:VCALENDAR
VERSION:2.0
PRODID:-//Hillsdale Est. 1788 - ECPv6.15.17.1//NONSGML v1.0//EN
CALSCALE:GREGORIAN
METHOD:PUBLISH
X-ORIGINAL-URL:https://hillsdaleny.com
X-WR-CALDESC:Events for Hillsdale Est. 1788
REFRESH-INTERVAL;VALUE=DURATION:PT1H
X-Robots-Tag:noindex
X-PUBLISHED-TTL:PT1H
BEGIN:VTIMEZONE
TZID:America/Chicago
BEGIN:DAYLIGHT
TZOFFSETFROM:-0600
TZOFFSETTO:-0500
TZNAME:CDT
DTSTART:20210314T080000
END:DAYLIGHT
BEGIN:STANDARD
TZOFFSETFROM:-0500
TZOFFSETTO:-0600
TZNAME:CST
DTSTART:20211107T070000
END:STANDARD
BEGIN:DAYLIGHT
TZOFFSETFROM:-0600
TZOFFSETTO:-0500
TZNAME:CDT
DTSTART:20220313T080000
END:DAYLIGHT
BEGIN:STANDARD
TZOFFSETFROM:-0500
TZOFFSETTO:-0600
TZNAME:CST
DTSTART:20221106T070000
END:STANDARD
BEGIN:DAYLIGHT
TZOFFSETFROM:-0600
TZOFFSETTO:-0500
TZNAME:CDT
DTSTART:20230312T080000
END:DAYLIGHT
BEGIN:STANDARD
TZOFFSETFROM:-0500
TZOFFSETTO:-0600
TZNAME:CST
DTSTART:20231105T070000
END:STANDARD
END:VTIMEZONE
BEGIN:VEVENT
DTSTART;TZID=America/Chicago:20220208T183000
DTEND;TZID=America/Chicago:20220208T190000
DTSTAMP:20260421T082654
CREATED:20220131T221336Z
LAST-MODIFIED:20220131T221336Z
UID:10000088-1644345000-1644346800@hillsdaleny.com
SUMMARY:Public Hearing
DESCRIPTION:PLEASE TAKE NOTICE that there will be a public hearing before the Hillsdale Town Board onFebruary 8\, 2022 at 6:30 p.m. for the purpose of considering the adoption of Local Law No. 1 of 2022\,which would codify the local laws\, ordinances\, and certain resolutions of the Town of Hillsdale into amunicipal code to be designated the “Code of the Town of Hillsdale”. \nZoom Log-in: 869 2782 2741The proposed Local Law No. 1 of 2022: (1) states the legislative intent of the Town Board in adopting the Code; (2) provides for thedesignation of the local laws\, ordinances\, and certain resolutions of the Town of Hillsdale as the “Code ofthe Town of Hillsdale”; (3) repeals local laws and ordinances of a general and permanent nature notincluded in the Code\, except as provided; (4) saves from repeal certain local laws and ordinances anddesignates certain matters not affected by repeal; (5) retains the meaning and intent of previously adoptedlegislation; (6) provides for the filing of a copy of the Code in the Town Clerk’s office; (7) provides forcertain changes in or additions to the Code; (8) prescribes the manner in which amendments and newlegislation are to be incorporated into the Code; (9) requires that Code books be kept up-to-date; (10)provides for the sale of Code books by the town and the supplementation thereof; (11) prohibitstampering with Code books\, with offenses punishable by a fine of not more than $250 or by imprisonmentfor not more than 15 days\, or both; (12) establishes severability provisions with respect to the Codegenerally; and (13) provides that the local law will be included in the Code as Chapter 1\, Article I.A copy of the proposed Local Law No. 1 of 2022 may be found on the Town website or obtained from the Hillsdale Town Clerk during normal business hours. \nNOTICE IS HEREBY GIVEN\, pursuant to the requirements of the Open Meetings Law of theState of New York\, that the Town Board of the Town of Hillsdale will convene in public meeting at theplace and time aforesaid for the purpose of conducting a public hearing on the proposed local lawdescribed above and\, as deemed advisable by said Board\, taking action on the enactment of said local law.
URL:https://hillsdaleny.com/event/public-hearing/
CATEGORIES:Town Board
END:VEVENT
BEGIN:VEVENT
DTSTART;TZID=America/Chicago:20220208T190000
DTEND;TZID=America/Chicago:20220208T210000
DTSTAMP:20260421T082654
CREATED:20220126T195639Z
LAST-MODIFIED:20220126T195639Z
UID:10000086-1644346800-1644354000@hillsdaleny.com
SUMMARY:Town Board Meeting
DESCRIPTION:The Town Board meeting will be held via Zoom. \nLog-in: 869 2782 2741 \nPhone-in:+16465588656\,\,86927822741# US (New York)
URL:https://hillsdaleny.com/event/town-board-meeting-20/
CATEGORIES:Town Board
END:VEVENT
END:VCALENDAR