BEGIN:VCALENDAR
VERSION:2.0
PRODID:-//Hillsdale Est. 1788 - ECPv6.15.17.1//NONSGML v1.0//EN
CALSCALE:GREGORIAN
METHOD:PUBLISH
X-ORIGINAL-URL:https://hillsdaleny.com
X-WR-CALDESC:Events for Hillsdale Est. 1788
REFRESH-INTERVAL;VALUE=DURATION:PT1H
X-Robots-Tag:noindex
X-PUBLISHED-TTL:PT1H
BEGIN:VTIMEZONE
TZID:America/Chicago
BEGIN:DAYLIGHT
TZOFFSETFROM:-0600
TZOFFSETTO:-0500
TZNAME:CDT
DTSTART:20210314T080000
END:DAYLIGHT
BEGIN:STANDARD
TZOFFSETFROM:-0500
TZOFFSETTO:-0600
TZNAME:CST
DTSTART:20211107T070000
END:STANDARD
BEGIN:DAYLIGHT
TZOFFSETFROM:-0600
TZOFFSETTO:-0500
TZNAME:CDT
DTSTART:20220313T080000
END:DAYLIGHT
BEGIN:STANDARD
TZOFFSETFROM:-0500
TZOFFSETTO:-0600
TZNAME:CST
DTSTART:20221106T070000
END:STANDARD
BEGIN:DAYLIGHT
TZOFFSETFROM:-0600
TZOFFSETTO:-0500
TZNAME:CDT
DTSTART:20230312T080000
END:DAYLIGHT
BEGIN:STANDARD
TZOFFSETFROM:-0500
TZOFFSETTO:-0600
TZNAME:CST
DTSTART:20231105T070000
END:STANDARD
END:VTIMEZONE
BEGIN:VEVENT
DTSTART;TZID=America/Chicago:20220308T190000
DTEND;TZID=America/Chicago:20220308T200000
DTSTAMP:20260421T070041
CREATED:20220228T144733Z
LAST-MODIFIED:20220228T145819Z
UID:10000090-1646766000-1646769600@hillsdaleny.com
SUMMARY:Town Board Meeting
DESCRIPTION:Via Zoom: \nLog-in: 869 2782 2741 \nPhone: +16465588656\,\,86927822741# US (New York)
URL:https://hillsdaleny.com/event/town-board-meeting-21/
CATEGORIES:Town Board
END:VEVENT
BEGIN:VEVENT
DTSTART;TZID=America/Chicago:20220321T140000
DTEND;TZID=America/Chicago:20220321T150000
DTSTAMP:20260421T070041
CREATED:20220314T211508Z
LAST-MODIFIED:20220314T211508Z
UID:10000292-1647871200-1647874800@hillsdaleny.com
SUMMARY:Special Town Board Meeting
DESCRIPTION:Special Town Board Meeting via Zoom to discuss: \n\nApproval of Bookkeeper position\nReview of Grantwriter submissions\nRoe Jan Park Agreement update\nTown Property Use and Procedure Policy\n\nZoom log-in : 847 0322 2917 \n 
URL:https://hillsdaleny.com/event/special-town-board-meeting-5/
CATEGORIES:Town Board
END:VEVENT
END:VCALENDAR