BEGIN:VCALENDAR
VERSION:2.0
PRODID:-//Hillsdale Est. 1788 - ECPv6.15.17.1//NONSGML v1.0//EN
CALSCALE:GREGORIAN
METHOD:PUBLISH
X-WR-CALNAME:Hillsdale Est. 1788
X-ORIGINAL-URL:https://hillsdaleny.com
X-WR-CALDESC:Events for Hillsdale Est. 1788
REFRESH-INTERVAL;VALUE=DURATION:PT1H
X-Robots-Tag:noindex
X-PUBLISHED-TTL:PT1H
BEGIN:VTIMEZONE
TZID:America/Chicago
BEGIN:DAYLIGHT
TZOFFSETFROM:-0600
TZOFFSETTO:-0500
TZNAME:CDT
DTSTART:20210314T080000
END:DAYLIGHT
BEGIN:STANDARD
TZOFFSETFROM:-0500
TZOFFSETTO:-0600
TZNAME:CST
DTSTART:20211107T070000
END:STANDARD
BEGIN:DAYLIGHT
TZOFFSETFROM:-0600
TZOFFSETTO:-0500
TZNAME:CDT
DTSTART:20220313T080000
END:DAYLIGHT
BEGIN:STANDARD
TZOFFSETFROM:-0500
TZOFFSETTO:-0600
TZNAME:CST
DTSTART:20221106T070000
END:STANDARD
BEGIN:DAYLIGHT
TZOFFSETFROM:-0600
TZOFFSETTO:-0500
TZNAME:CDT
DTSTART:20230312T080000
END:DAYLIGHT
BEGIN:STANDARD
TZOFFSETFROM:-0500
TZOFFSETTO:-0600
TZNAME:CST
DTSTART:20231105T070000
END:STANDARD
END:VTIMEZONE
BEGIN:VEVENT
DTSTART;TZID=America/Chicago:20220412T190000
DTEND;TZID=America/Chicago:20220412T210000
DTSTAMP:20260421T052231
CREATED:20220404T170925Z
LAST-MODIFIED:20220404T170925Z
UID:10000301-1649790000-1649797200@hillsdaleny.com
SUMMARY:Town Board Meeting
DESCRIPTION:The Town Board meeting will be held via Zoom. \nLog in information: 869 2782 2741 \nPhone in : +16465588656\,\,86927822741# \n  \n 
URL:https://hillsdaleny.com/event/town-board-meeting-22/
CATEGORIES:Town Board
END:VEVENT
BEGIN:VEVENT
DTSTART;TZID=America/Chicago:20220426T120000
DTEND;TZID=America/Chicago:20220426T140000
DTSTAMP:20260421T052231
CREATED:20220425T131856Z
LAST-MODIFIED:20220425T214057Z
UID:10000300-1650974400-1650981600@hillsdaleny.com
SUMMARY:Special Town Board Meeting
DESCRIPTION:The Board will have a Special Meeting for the purpose of conducting an Executive Session to discuss matters relating to the appointment of a particular committee member. \nThis meeting will take place via Zoom. \nLog-in: \nMeeting ID: 821 2570 0775 \nOne tap mobile \n+16465588656\,\,82125700775# US (New York) \nDial by your location \n        +1 646 558 8656 US (New York)
URL:https://hillsdaleny.com/event/special-town-board-meeting-6/
CATEGORIES:Town Board
END:VEVENT
END:VCALENDAR