BEGIN:VCALENDAR
VERSION:2.0
PRODID:-//Hillsdale Est. 1788 - ECPv6.15.17.1//NONSGML v1.0//EN
CALSCALE:GREGORIAN
METHOD:PUBLISH
X-ORIGINAL-URL:https://hillsdaleny.com
X-WR-CALDESC:Events for Hillsdale Est. 1788
REFRESH-INTERVAL;VALUE=DURATION:PT1H
X-Robots-Tag:noindex
X-PUBLISHED-TTL:PT1H
BEGIN:VTIMEZONE
TZID:America/New_York
BEGIN:DAYLIGHT
TZOFFSETFROM:-0500
TZOFFSETTO:-0400
TZNAME:EDT
DTSTART:20230312T070000
END:DAYLIGHT
BEGIN:STANDARD
TZOFFSETFROM:-0400
TZOFFSETTO:-0500
TZNAME:EST
DTSTART:20231105T060000
END:STANDARD
BEGIN:DAYLIGHT
TZOFFSETFROM:-0500
TZOFFSETTO:-0400
TZNAME:EDT
DTSTART:20240310T070000
END:DAYLIGHT
BEGIN:STANDARD
TZOFFSETFROM:-0400
TZOFFSETTO:-0500
TZNAME:EST
DTSTART:20241103T060000
END:STANDARD
BEGIN:DAYLIGHT
TZOFFSETFROM:-0500
TZOFFSETTO:-0400
TZNAME:EDT
DTSTART:20250309T070000
END:DAYLIGHT
BEGIN:STANDARD
TZOFFSETFROM:-0400
TZOFFSETTO:-0500
TZNAME:EST
DTSTART:20251102T060000
END:STANDARD
END:VTIMEZONE
BEGIN:VEVENT
DTSTART;TZID=America/New_York:20240509T190000
DTEND;TZID=America/New_York:20240509T203000
DTSTAMP:20260419T100655
CREATED:20240419T142800Z
LAST-MODIFIED:20240502T221024Z
UID:10000409-1715281200-1715286600@hillsdaleny.com
SUMMARY:Town Board Meeting
DESCRIPTION:Town of Hillsdale is inviting you to a scheduled Zoom meeting. \nTopic: Hillsdale Town Board MeetingTime: May 9\, 2024 07:00 PM Eastern Time (US and Canada)        May 9\, 2024 07:00 PM        Jun 11\, 2024 07:00 PM        Jul 9\, 2024 07:00 PM        Aug 13\, 2024 07:00 PM        Sep 10\, 2024 07:00 PM        Oct 8\, 2024 07:00 PM        Nov 12\, 2024 07:00 PM        Dec 10\, 2024 07:00 PMPlease download and import the following iCalendar (.ics) files to your calendar system.Monthly: https://us02web.zoom.us/meeting/tZYrf-qpqjoiHNc8K8qN8arkECal12fFnaRy/ics?icsToken=98tyKuGqqDMpG9CUuB-ERpwQBIqgb-vwiH5Hgo1exDS9Eg4LYxH9E8FDPuMtFv7e \nJoin Zoom Meetinghttps://us02web.zoom.us/j/82683141863?pwd=R2Ztc2dWMlBTNFdPbGhkTUt6b2pDQT09 \nMeeting ID: 826 8314 1863Passcode: 017862 \n— \nOne tap mobile+16469313860\,\,82683141863#\,\,\,\,*017862# US+16465588656\,\,82683141863#\,\,\,\,*017862# US (New York) \n— \nDial by your location• +1 646 931 3860 US• +1 646 558 8656 US (New York)• +1 305 224 1968 US• +1 309 205 3325 US• +1 312 626 6799 US (Chicago)• +1 301 715 8592 US (Washington DC)• +1 669 900 9128 US (San Jose)• +1 689 278 1000 US• +1 719 359 4580 US• +1 253 205 0468 US• +1 253 215 8782 US (Tacoma)• +1 346 248 7799 US (Houston)• +1 360 209 5623 US• +1 386 347 5053 US• +1 507 473 4847 US• +1 564 217 2000 US• +1 669 444 9171 US \nMeeting ID: 826 8314 1863Passcode: 017862 \nFind your local number: https://us02web.zoom.us/u/kqAIc6Zxa \n 
URL:https://hillsdaleny.com/event/town-board-meeting-31/
CATEGORIES:Town Board
END:VEVENT
END:VCALENDAR