BEGIN:VCALENDAR
VERSION:2.0
PRODID:-//Hillsdale Est. 1788 - ECPv6.15.17.1//NONSGML v1.0//EN
CALSCALE:GREGORIAN
METHOD:PUBLISH
X-WR-CALNAME:Hillsdale Est. 1788
X-ORIGINAL-URL:https://hillsdaleny.com
X-WR-CALDESC:Events for Hillsdale Est. 1788
REFRESH-INTERVAL;VALUE=DURATION:PT1H
X-Robots-Tag:noindex
X-PUBLISHED-TTL:PT1H
BEGIN:VTIMEZONE
TZID:America/Chicago
BEGIN:DAYLIGHT
TZOFFSETFROM:-0600
TZOFFSETTO:-0500
TZNAME:CDT
DTSTART:20180311T080000
END:DAYLIGHT
BEGIN:STANDARD
TZOFFSETFROM:-0500
TZOFFSETTO:-0600
TZNAME:CST
DTSTART:20181104T070000
END:STANDARD
BEGIN:DAYLIGHT
TZOFFSETFROM:-0600
TZOFFSETTO:-0500
TZNAME:CDT
DTSTART:20190310T080000
END:DAYLIGHT
BEGIN:STANDARD
TZOFFSETFROM:-0500
TZOFFSETTO:-0600
TZNAME:CST
DTSTART:20191103T070000
END:STANDARD
BEGIN:DAYLIGHT
TZOFFSETFROM:-0600
TZOFFSETTO:-0500
TZNAME:CDT
DTSTART:20200308T080000
END:DAYLIGHT
BEGIN:STANDARD
TZOFFSETFROM:-0500
TZOFFSETTO:-0600
TZNAME:CST
DTSTART:20201101T070000
END:STANDARD
END:VTIMEZONE
BEGIN:VEVENT
DTSTART;TZID=America/Chicago:20190102T163000
DTEND;TZID=America/Chicago:20190102T163000
DTSTAMP:20260425T071940
CREATED:20191222T001659Z
LAST-MODIFIED:20191222T001659Z
UID:10000036-1546446600-1546446600@hillsdaleny.com
SUMMARY:2019 Organizational Meeting
DESCRIPTION:Please be advised that the Town Board of the Town of Hillsdale will hold its 2018 Organizational Meeting on Wednesday\, January 2 at 4:30 pm at Town Hall.
URL:https://hillsdaleny.com/event/2019-organizational-meeting/
CATEGORIES:Town Board
END:VEVENT
BEGIN:VEVENT
DTSTART;TZID=America/Chicago:20190119T160000
DTEND;TZID=America/Chicago:20190119T160000
DTSTAMP:20260425T071940
CREATED:20191222T001628Z
LAST-MODIFIED:20191222T001628Z
UID:10000035-1547913600-1547913600@hillsdaleny.com
SUMMARY:Hillsdale Town Historian Speaks on The Columbia Turnpike at Library
DESCRIPTION:Chris Atkins\, Hillsdale Town Historian will discuss the history of Columbia Turnpike on Saturday\, January 19 at 4 pm. The Columbia Turnpike was the 1799 Toll Road that connected Massachusetts with the Hudson River during the 19th Century. A portion of the East Gate Toll House still stands on Route 23 in Hillsdale and Atkins is a member of a group working to preserve the structure.\nThe presentation will include Atkins’ findings after a yearlong investigation into the original path of the Turnpike. Many people believe that the turnpike followed the path of today’s State Route 23\, but in fact\, as Atkins will demonstrate\, the original turnpike diverged from today’s RT. 23. Those who attend will receive an 11”x17” copy of the map\, which also includes information about many of the historic structures that still exist on the original turnpike path.
URL:https://hillsdaleny.com/event/hillsdale-town-historian-speaks-on-the-columbia-turnpike-at-library/
CATEGORIES:Events
END:VEVENT
BEGIN:VEVENT
DTSTART;VALUE=DATE:20190125
DTEND;VALUE=DATE:20190126
DTSTAMP:20260425T071940
CREATED:20191222T001515Z
LAST-MODIFIED:20191222T001515Z
UID:10000034-1548374400-1548460799@hillsdaleny.com
SUMMARY:Student Science Research Presentations
DESCRIPTION:
URL:https://hillsdaleny.com/event/student-science-research-presentations/
CATEGORIES:Events
END:VEVENT
BEGIN:VEVENT
DTSTART;TZID=America/Chicago:20190126T113000
DTEND;TZID=America/Chicago:20190126T113000
DTSTAMP:20260425T071940
CREATED:20191222T001454Z
LAST-MODIFIED:20191222T001454Z
UID:10000033-1548502200-1548502200@hillsdaleny.com
SUMMARY:Concert for Children and Families with “Sauerkraut” Seth Travins
DESCRIPTION:Roe Jan Library will present popular performer Seth Travins in concert on Saturday\, January 26 at 11:30am. The concert is for children and their families. Seth will alternate between guitar\, ukulele\, and banjo as he shares the music of Woody Guthrie\, Pete Seeger and others from the American folk tradition. \n“Sauerkraut” Seth Travins is a singer-songwriter and multi- instrumentalist who has resided in Columbia County for 20 years. He has been singing folk songs to children\, particularly those by Woody Guthrie\, since his time as a student at Bard College. He also plays in a band called the Wiyos that has played many children’s concerts over the years including numerous at Carnegie Hall as well as some outer boroughs through the Carnegie Kids Program. \nFor several years\, Travins has been hosting his own\, old-style roots-music revues at Club Helsinki Hudson. At these events\, Travins has been described as a one-man marvel of old-time country\, Western swing\, honky-tonk\, and early rock ‘n’ roll styles. \nWhen not performing\, “Sauerkraut” Seth Travins can often be found making organic lacto-fermented sauerkrauts and kimchee under his own label in Hudson. Seth’s original sauerkraut is served on the bar menu at Helsinki Hudson.
URL:https://hillsdaleny.com/event/concert-for-children-and-families-with-sauerkraut-seth-travins/
CATEGORIES:Events
END:VEVENT
BEGIN:VEVENT
DTSTART;TZID=America/Chicago:20190126T130000
DTEND;TZID=America/Chicago:20190126T150000
DTSTAMP:20260425T071940
CREATED:20191222T001420Z
LAST-MODIFIED:20191222T001420Z
UID:10000242-1548507600-1548514800@hillsdaleny.com
SUMMARY:Ecology Walk at Drowned Lands Conservation Area
DESCRIPTION:Join the Farmscape Ecology Program for an Ecology Walk at Drowned Lands Conservation Area\, Ancram\, Saturday\, January 26 rom 1 – 3 pm.  They plan to explore both field and forest to see where insects might be spending the winter\, which plants we can identify in their “off season”\, and which ones might still be green and happily soaking up the sunlight… This walk is free\, but please register with Claudia@hawthornevalleyfarm.org to reserve your space and get directions for the meeting place.
URL:https://hillsdaleny.com/event/ecology-walk-at-drowned-lands-conservation-area/
CATEGORIES:Events
END:VEVENT
END:VCALENDAR