BEGIN:VCALENDAR
VERSION:2.0
PRODID:-//Hillsdale Est. 1788 - ECPv6.15.17.1//NONSGML v1.0//EN
CALSCALE:GREGORIAN
METHOD:PUBLISH
X-ORIGINAL-URL:https://hillsdaleny.com
X-WR-CALDESC:Events for Hillsdale Est. 1788
REFRESH-INTERVAL;VALUE=DURATION:PT1H
X-Robots-Tag:noindex
X-PUBLISHED-TTL:PT1H
BEGIN:VTIMEZONE
TZID:America/Chicago
BEGIN:DAYLIGHT
TZOFFSETFROM:-0600
TZOFFSETTO:-0500
TZNAME:CDT
DTSTART:20180311T080000
END:DAYLIGHT
BEGIN:STANDARD
TZOFFSETFROM:-0500
TZOFFSETTO:-0600
TZNAME:CST
DTSTART:20181104T070000
END:STANDARD
BEGIN:DAYLIGHT
TZOFFSETFROM:-0600
TZOFFSETTO:-0500
TZNAME:CDT
DTSTART:20190310T080000
END:DAYLIGHT
BEGIN:STANDARD
TZOFFSETFROM:-0500
TZOFFSETTO:-0600
TZNAME:CST
DTSTART:20191103T070000
END:STANDARD
BEGIN:DAYLIGHT
TZOFFSETFROM:-0600
TZOFFSETTO:-0500
TZNAME:CDT
DTSTART:20200308T080000
END:DAYLIGHT
BEGIN:STANDARD
TZOFFSETFROM:-0500
TZOFFSETTO:-0600
TZNAME:CST
DTSTART:20201101T070000
END:STANDARD
END:VTIMEZONE
BEGIN:VEVENT
DTSTART;TZID=America/Chicago:20190703T180000
DTEND;TZID=America/Chicago:20190703T200000
DTSTAMP:20260424T213003
CREATED:20191221T233200Z
LAST-MODIFIED:20191221T233200Z
UID:10000011-1562176800-1562184000@hillsdaleny.com
SUMMARY:Dung Beetle Ecology
DESCRIPTION:Dung Beetle Ecology and An Introduction to the Dung Beetles of Columbia County\, a presentation by visiting scientist Rachel Stone on Wednesday\, July 3rd\, 7pm at the Creekhouse (1075 Harlemville Road\, Ghent NY 12075). \nThe presentation will be part of the monthly FEP Open House\, which was moved to WEDNESDAY\, July 3rd\, 6-8 pm to avoid conflict with 4th of July activities. Before the presentation\, there will be an opportunity at 6pm for a quick tour of the native plant garden and building\, and to have a light meal. Please check the above link for more info on the dung beetle presentation.
URL:https://hillsdaleny.com/event/dung-beetle-ecology/
CATEGORIES:Meetings
END:VEVENT
BEGIN:VEVENT
DTSTART;VALUE=DATE:20190706
DTEND;VALUE=DATE:20190707
DTSTAMP:20260424T213003
CREATED:20191221T233001Z
LAST-MODIFIED:20191221T233001Z
UID:10000009-1562371200-1562457599@hillsdaleny.com
SUMMARY:Summer Exhibit Opens: Hidden History of the Roe Jan Region
DESCRIPTION:
URL:https://hillsdaleny.com/event/summer-exhibit-opens-hidden-history-of-the-roe-jan-region/
CATEGORIES:Events
END:VEVENT
BEGIN:VEVENT
DTSTART;TZID=America/Chicago:20190706T100000
DTEND;TZID=America/Chicago:20190706T120000
DTSTAMP:20260424T213003
CREATED:20191221T233106Z
LAST-MODIFIED:20191221T233106Z
UID:10000010-1562407200-1562414400@hillsdaleny.com
SUMMARY:Landscaped Wildflower Meadows: Ecology Walk
DESCRIPTION:Landscaped Wildflower Meadows: Their Plants and Insects at Pom’s Cabin Farm (private land) in Falls Village\, CT\, Saturday\, July 6\, 10 am-noon. \nThis is the first in a series of meadow-themed ecology walks we offer this summer. Visit two beautiful organically managed meadows that have been created “from scratch” more than a decade ago. Learn what it took to establish and maintain them\, admire the flowers\, observe the insect life\, and get inspired! Please register with Claudia fep@hawthornevalleyfarm.org to receive directions.
URL:https://hillsdaleny.com/event/landscaped-wildflower-meadows-ecology-walk/
CATEGORIES:Events
END:VEVENT
BEGIN:VEVENT
DTSTART;VALUE=DATE:20190714
DTEND;VALUE=DATE:20190715
DTSTAMP:20260424T213003
CREATED:20191221T232917Z
LAST-MODIFIED:20191221T232917Z
UID:10000008-1563062400-1563148799@hillsdaleny.com
SUMMARY:4th Annual Afternoon Tea and Fashion Show
DESCRIPTION:
URL:https://hillsdaleny.com/event/4th-annual-afternoon-tea-and-fashion-show/
CATEGORIES:Events
END:VEVENT
BEGIN:VEVENT
DTSTART;TZID=America/Chicago:20190714T130000
DTEND;TZID=America/Chicago:20190714T130000
DTSTAMP:20260424T213003
CREATED:20191221T232856Z
LAST-MODIFIED:20191221T232856Z
UID:10000007-1563109200-1563109200@hillsdaleny.com
SUMMARY:Democratic Caucus at Town Garage
DESCRIPTION:TOWN OF HILLSDALE DEMOCRATIC CAUCUS \nNotice is hereby given to the enrolled Democrats of the Town of Hillsdale that a Caucus for the purpose of nominating candidates for election to Town Offices at the General Election to be held on November 5\, 2019 will be held at Hillsdale Highway Department Garage 155 Old Town Road\, Hillsdale\, New York\, 12529 on July 14 at 1pm. \nChris Kersten\, Town Chair
URL:https://hillsdaleny.com/event/democratic-caucus-at-town-garage/
CATEGORIES:Meetings
END:VEVENT
BEGIN:VEVENT
DTSTART;VALUE=DATE:20190720
DTEND;VALUE=DATE:20190721
DTSTAMP:20260424T213003
CREATED:20191221T232816Z
LAST-MODIFIED:20191221T232816Z
UID:10000006-1563580800-1563667199@hillsdaleny.com
SUMMARY:Stone Soup\, Eclectic Jazz at Roe Jan Library
DESCRIPTION:Stone Soup\, a locally based\, eclectic\, contemporary\, jazz-centered trio (guitar\, bass\, and drums) will appear at Roe Jan Library on Saturday\, July 20 at 5 pm. The group plays plays music spanning the musical genres of funk\, jazz-rock fusion\, American standards and original compositions. \nPaul Trapanese\, known as a virtuoso on the guitar\, is considered to be one of the best guitarists in Columbia County\, and beyond. He continues to raise the bar at every performance. Eric Miller\, bass\, and Steve Collins\, drums\, combine their years of experience playing across a multitude of musical situations to create the perfect base for Paul’s improvisations. The trio creates a very tight sensitive experience. They bring nationwide experience from San Francisco\, Santa Fe\, New York City\, and many points in between. \nThis concert is made possible with funds from the Decentralization Program\, a regrant program of the New York State Council on the Arts with the support of Governor Andrew M. Cuomo and the New York State Legislature and administered by the Greene County Council on the Arts.
URL:https://hillsdaleny.com/event/stone-soup-eclectic-jazz-at-roe-jan-library/
CATEGORIES:Events
END:VEVENT
BEGIN:VEVENT
DTSTART;VALUE=DATE:20190721
DTEND;VALUE=DATE:20190722
DTSTAMP:20260424T213003
CREATED:20191221T232739Z
LAST-MODIFIED:20191221T232739Z
UID:10000005-1563667200-1563753599@hillsdaleny.com
SUMMARY:Library Benefit Golf Tournament
DESCRIPTION:The 11th Annual Roeliff Jansen Community Library (RJCL) Benefit Golf Tournament tees off on Sunday\, July 21 at the Undermountain Golf Course in Copake. Undermountain Golf Course is enjoyable for both experienced and less experienced golfers. \nEntrance fee is $80 per golfer ($65 for Undermountain Course members). Golf carts are available for an additional fee. Golfers will enjoy a round of golf\, win prizes\, and feast on tasty\, homemade foods (light breakfast\, lunch\, snacks\, and BBQ chicken dinner). Non-golfers may attend the dinner for $20. A portion of every entry fee will be donated to the Roe Jan Community Library. \nThis year’s tournament will feature a Putting Contest. For a $5 donation\, anyone may participate in the Putting Contest\, even if not registered for the tournament or the dinner.  Putters will be available or use your own. Prizes will be awarded at the dinner. \nDetails and entry forms for the Tournament are available at the Roe Jan Library\, online from the RJCL website at www.roejanlibrary.org — then click on Events/Programs\, and at the Undermountain Golf Course (518-329-4444).  Golfers should indicate their preference for an 8:30 am or a 1:00 pm start time. Entry forms and checks must be received by Undermountain Golf Course on or before July 17.
URL:https://hillsdaleny.com/event/library-benefit-golf-tournament/
CATEGORIES:Events
END:VEVENT
BEGIN:VEVENT
DTSTART;VALUE=DATE:20190727
DTEND;VALUE=DATE:20190728
DTSTAMP:20260424T213003
CREATED:20191221T232701Z
LAST-MODIFIED:20191221T232701Z
UID:10000004-1564185600-1564271999@hillsdaleny.com
SUMMARY:Open House at The Mills at Green Hole
DESCRIPTION:
URL:https://hillsdaleny.com/event/open-house-at-the-mills-at-green-hole/
CATEGORIES:Meetings
END:VEVENT
END:VCALENDAR