BEGIN:VCALENDAR
VERSION:2.0
PRODID:-//Hillsdale Est. 1788 - ECPv6.15.17.1//NONSGML v1.0//EN
CALSCALE:GREGORIAN
METHOD:PUBLISH
X-ORIGINAL-URL:https://hillsdaleny.com
X-WR-CALDESC:Events for Hillsdale Est. 1788
REFRESH-INTERVAL;VALUE=DURATION:PT1H
X-Robots-Tag:noindex
X-PUBLISHED-TTL:PT1H
BEGIN:VTIMEZONE
TZID:America/Chicago
BEGIN:DAYLIGHT
TZOFFSETFROM:-0600
TZOFFSETTO:-0500
TZNAME:CDT
DTSTART:20190310T080000
END:DAYLIGHT
BEGIN:STANDARD
TZOFFSETFROM:-0500
TZOFFSETTO:-0600
TZNAME:CST
DTSTART:20191103T070000
END:STANDARD
BEGIN:DAYLIGHT
TZOFFSETFROM:-0600
TZOFFSETTO:-0500
TZNAME:CDT
DTSTART:20200308T080000
END:DAYLIGHT
BEGIN:STANDARD
TZOFFSETFROM:-0500
TZOFFSETTO:-0600
TZNAME:CST
DTSTART:20201101T070000
END:STANDARD
BEGIN:DAYLIGHT
TZOFFSETFROM:-0600
TZOFFSETTO:-0500
TZNAME:CDT
DTSTART:20210314T080000
END:DAYLIGHT
BEGIN:STANDARD
TZOFFSETFROM:-0500
TZOFFSETTO:-0600
TZNAME:CST
DTSTART:20211107T070000
END:STANDARD
END:VTIMEZONE
BEGIN:VEVENT
DTSTART;TZID=America/Chicago:20200831T100000
DTEND;TZID=America/Chicago:20200911T160000
DTSTAMP:20260424T000238
CREATED:20200811T222808Z
LAST-MODIFIED:20200811T222808Z
UID:10000264-1598868000-1599840000@hillsdaleny.com
SUMMARY:Shredding Bins Available
DESCRIPTION:Shredding bins are available in Town Hall. Please call the town clerk for an appointment.
URL:https://hillsdaleny.com/event/shredding-bins-available/
END:VEVENT
BEGIN:VEVENT
DTSTART;TZID=America/Chicago:20200921T150000
DTEND;TZID=America/Chicago:20200923T163000
DTSTAMP:20260424T000238
CREATED:20200828T171050Z
LAST-MODIFIED:20200828T171050Z
UID:10000266-1600700400-1600878600@hillsdaleny.com
SUMMARY:Wetlands: Values\, Threats\, & Protection
DESCRIPTION:Hudsonia and the Hudson River Estuary Program are pleased to offer this three-part webinar on wetlands conservation.\n \nMon-Wed\, 21-23 September 2020 3:00 pm – 4:30 pm each day\n \nDespite some protections in federal and state wetland regulations\, wetlands are still being lost and degraded.\n \nIn three 1.5 hour sessions\, we will discuss the ecological and water resource values of wetlands; how to identify unmapped wetlands on site plans and other maps using online tools and in the field; the status of state and federal regulatory programs for wetlands; and how to extend local protections to these important resources.\n \nClick here to register\n \nThe program is free-of-charge\, but pre-registration is required. Space is limited. Registration will be open until 14 September. \n \nApplicants from Hudson Valley municipal or county agencies\, conservation or watershed organizations\, and others involved in local land use planning or decision-making will be given priority to attend. In addition\, applicants who can attend all three sessions will be prioritized. \nMunicipal training credit certificates will be available to attendees.\n \nSee this webinar and other resources posted at hudsonia.org/events
URL:https://hillsdaleny.com/event/wetlands-values-threats-protection/
CATEGORIES:Events
END:VEVENT
END:VCALENDAR