BEGIN:VCALENDAR
VERSION:2.0
PRODID:-//Hillsdale Est. 1788 - ECPv6.15.17.1//NONSGML v1.0//EN
CALSCALE:GREGORIAN
METHOD:PUBLISH
X-WR-CALNAME:Hillsdale Est. 1788
X-ORIGINAL-URL:https://hillsdaleny.com
X-WR-CALDESC:Events for Hillsdale Est. 1788
REFRESH-INTERVAL;VALUE=DURATION:PT1H
X-Robots-Tag:noindex
X-PUBLISHED-TTL:PT1H
BEGIN:VTIMEZONE
TZID:America/Chicago
BEGIN:DAYLIGHT
TZOFFSETFROM:-0600
TZOFFSETTO:-0500
TZNAME:CDT
DTSTART:20190310T080000
END:DAYLIGHT
BEGIN:STANDARD
TZOFFSETFROM:-0500
TZOFFSETTO:-0600
TZNAME:CST
DTSTART:20191103T070000
END:STANDARD
BEGIN:DAYLIGHT
TZOFFSETFROM:-0600
TZOFFSETTO:-0500
TZNAME:CDT
DTSTART:20200308T080000
END:DAYLIGHT
BEGIN:STANDARD
TZOFFSETFROM:-0500
TZOFFSETTO:-0600
TZNAME:CST
DTSTART:20201101T070000
END:STANDARD
BEGIN:DAYLIGHT
TZOFFSETFROM:-0600
TZOFFSETTO:-0500
TZNAME:CDT
DTSTART:20210314T080000
END:DAYLIGHT
BEGIN:STANDARD
TZOFFSETFROM:-0500
TZOFFSETTO:-0600
TZNAME:CST
DTSTART:20211107T070000
END:STANDARD
END:VTIMEZONE
BEGIN:VEVENT
DTSTART;TZID=America/Chicago:20201130T000000
DTEND;TZID=America/Chicago:20201211T235959
DTSTAMP:20260424T012314
CREATED:20200812T133900Z
LAST-MODIFIED:20200910T135408Z
UID:10000265-1606694400-1607731199@hillsdaleny.com
SUMMARY:Shredding Bins Available
DESCRIPTION:Shredding bins available in Town Hall. Please contact the Town Clerk for more information.
URL:https://hillsdaleny.com/event/shredding-bins-available-2/
END:VEVENT
BEGIN:VEVENT
DTSTART;TZID=America/Chicago:20201201T190000
DTEND;TZID=America/Chicago:20201201T210000
DTSTAMP:20260424T012314
CREATED:20201201T154627Z
LAST-MODIFIED:20201201T154627Z
UID:10000269-1606849200-1606856400@hillsdaleny.com
SUMMARY:Zoning Board Meeting
DESCRIPTION:Topic: Zoning BoardTime: Dec 1\, 2020 7:30 PMJoin Zoom Meetinghttps://us02web.zoom.us/j/83167840151?pwd=L2dvSnhER0llOFppeUJURU9KTi9uQT09Meeting ID: 831 6784 0151Passcode: 215450Or Dial646-558-8656       Meeting ID: 831 6784 0151
URL:https://hillsdaleny.com/event/zoning-board-meeting-3/
CATEGORIES:Events
END:VEVENT
END:VCALENDAR